Workbook

Sheet 申込み
A1: 第4回下越支部オープンバドミントン大会
A3: 参加申込書
A4: 団体名 | F4: 申込責任者
F5: 住所 | G5: 〒
A7: 参加料区分 | F7: 電話（携帯） | J7: ←入力必須
F8: 電話（自宅・所属）
J10: 46113
A11: ※上から各団体内のランク順に記入してください。 | J11: 現在の年齢
A12: ※登録番号・登録団体名とは、今年度県協会登録番号と県協会登録団体名です。
A14: 一般（中高生含む）ダブルス男子の部・女子の部 年代別ダブルス 男子：45才以上の部・女子：45才以上の部 | G14: 混合ダブルス(オープン)
A15: ランク | B15: 種別 | C15: ふりがな | D15: 登録番号 | E15: （西暦） | F15: 年齢 | G15: ランク | H15: 種別 | I15: ふりがな | J15: 登録番号 | K15: （西暦） | L15: 年齢
C16: 氏 名 | D16: 登録団体名 | E16: 生年月日 | I16: 氏 名 | J16: 登録団体名 | K16: 生年月日
A17: 1 | F17: =IF(ISBLANK(E17),"",DATEDIF(E17,$J$10,"Y")) | G17: 1 | L17: =IF(ISBLANK(K17),"",DATEDIF(K17,$J$10,"Y")) | O17: 中高生
O18: 一般その他
F19: =IF(ISBLANK(E19),"",DATEDIF(E19,$J$10,"Y")) | L19: =IF(ISBLANK(K19),"",DATEDIF(K19,$J$10,"Y"))
A21: 2 | F21: =IF(ISBLANK(E21),"",DATEDIF(E21,$J$10,"Y")) | G21: 2 | L21: =IF(ISBLANK(K21),"",DATEDIF(K21,$J$10,"Y")) | O21: 一般男
O22: 一般女
F23: =IF(ISBLANK(E23),"",DATEDIF(E23,$J$10,"Y")) | L23: =IF(ISBLANK(K23),"",DATEDIF(K23,$J$10,"Y")) | O23: 男子45以上
O24: 女子45以上
A25: 3 | F25: =IF(ISBLANK(E25),"",DATEDIF(E25,$J$10,"Y")) | G25: 3 | L25: =IF(ISBLANK(K25),"",DATEDIF(K25,$J$10,"Y"))
P26: 混合一般
F27: =IF(ISBLANK(E27),"",DATEDIF(E27,$J$10,"Y")) | L27: =IF(ISBLANK(K27),"",DATEDIF(K27,$J$10,"Y")) | P27: 混合70以上
P28: 混合110以上
A29: 4 | F29: =IF(ISBLANK(E29),"",DATEDIF(E29,$J$10,"Y")) | G29: シングルスA（オープン） シングルスB（下越支部管内の選手に限る）
O30: 男子A
F31: =IF(ISBLANK(E31),"",DATEDIF(E31,$J$10,"Y")) | G31: 1 | L31: =IF(ISBLANK(K31),"",DATEDIF(K31,$J$10,"Y")) | O31: 男子B
O32: 女子A
A33: 5 | F33: =IF(ISBLANK(E33),"",DATEDIF(E33,$J$10,"Y")) | G33: 2 | L33: =IF(ISBLANK(K33),"",DATEDIF(K33,$J$10,"Y")) | O33: 女子B
F35: =IF(ISBLANK(E35),"",DATEDIF(E35,$J$10,"Y")) | G35: 3 | L35: =IF(ISBLANK(K35),"",DATEDIF(K35,$J$10,"Y"))
G37: 4 | L37: =IF(ISBLANK(K37),"",DATEDIF(K37,$J$10,"Y"))
A38: 上記の通り | C38: ダブルス（ペア数×２） | F38: 人
G39: 5 | L39: =IF(ISBLANK(K39),"",DATEDIF(K39,$J$10,"Y"))
C40: シングルス | F40: 人
G41: 6 | L41: =IF(ISBLANK(K41),"",DATEDIF(K41,$J$10,"Y"))
C42: 人数合計 | D42: =D38+D40&"人" -> 0人
G43: 7 | L43: =IF(ISBLANK(K43),"",DATEDIF(K43,$J$10,"Y"))
A44: 領収書は | C44: （ 必要 ・ 不要 ） | D44: です
C45: どちらか消す | G45: 8 | L45: =IF(ISBLANK(K45),"",DATEDIF(K45,$J$10,"Y"))
C46: 中・高 1200円 /人 | F46: 人
D47: 中高生人数↑ | G47: 9 | L47: =IF(ISBLANK(K47),"",DATEDIF(K47,$J$10,"Y"))
...

Sheet データ
B1: 種目 | C1: 名前 | D1: ふりがな | E1: 所属 | F1: グループ | G1: 付加情報 | H1: 種目 | I1: 名前 | J1: ふりがな | K1: 所属
A2: 1 | B2: =IF(申込み!B17="一般男","MD","")&IF(申込み!B17="一般女","WD","")&IF(申込み!B17="男子40","MD40","")&IF(申込み!B17="男子50","MD50","")&IF(申込み!B17="女子40","WD40","")&IF(申込み!B17="混合一般","MIX","")&IF(申込み!B17="混合70","MIX70","")&IF(申込み!B17="混合90","MIX90","") | C2: =申込み!C18 -> 0 | D2: =申込み!C17 -> 0 | E2: =申込み!D18 -> 0 | H2: =B2 | I2: =申込み!C20 -> 0 | J2: =申込み!C19 -> 0 | K2: =申込み!D20 -> 0
A3: 2 | B3: =IF(申込み!B21="一般男","MD","")&IF(申込み!B21="一般女","WD","")&IF(申込み!B21="男子40","MD40","")&IF(申込み!B21="男子50","MD50","")&IF(申込み!B21="女子40","WD40","")&IF(申込み!B21="混合一般","MIX","")&IF(申込み!B21="混合70","MIX70","")&IF(申込み!B21="混合90","MIX90","") | C3: =申込み!C22 -> 0 | D3: =申込み!C21 -> 0 | E3: =申込み!D22 -> 0 | H3: =B3 | I3: =申込み!C24 -> 0 | J3: =申込み!C23 -> 0 | K3: =申込み!D24 -> 0
A4: 3 | B4: =IF(申込み!B25="一般男","MD","")&IF(申込み!B25="一般女","WD","")&IF(申込み!B25="男子40","MD40","")&IF(申込み!B25="男子50","MD50","")&IF(申込み!B25="女子40","WD40","")&IF(申込み!B25="混合一般","MIX","")&IF(申込み!B25="混合70","MIX70","")&IF(申込み!B25="混合90","MIX90","") | C4: =申込み!C26 -> 0 | D4: =申込み!C25 -> 0 | E4: =申込み!D26 -> 0 | H4: =B4 | I4: =申込み!C28 -> 0 | J4: =申込み!C27 -> 0 | K4: =申込み!D28 -> 0
A5: 4 | B5: =IF(申込み!B29="一般男","MD","")&IF(申込み!B29="一般女","WD","")&IF(申込み!B29="男子40","MD40","")&IF(申込み!B29="男子50","MD50","")&IF(申込み!B29="女子40","WD40","")&IF(申込み!B29="混合一般","MIX","")&IF(申込み!B29="混合70","MIX70","")&IF(申込み!B29="混合90","MIX90","") | C5: =申込み!C30 -> 0 | D5: =申込み!C29 -> 0 | E5: =申込み!D30 -> 0 | H5: =B5 | I5: =申込み!C32 -> 0 | J5: =申込み!C31 -> 0 | K5: =申込み!D32 -> 0
A6: 5 | B6: =IF(申込み!B33="一般男","MD","")&IF(申込み!B33="一般女","WD","")&IF(申込み!B33="男子40","MD40","")&IF(申込み!B33="男子50","MD50","")&IF(申込み!B33="女子40","WD40","")&IF(申込み!B33="混合一般","MIX","")&IF(申込み!B33="混合70","MIX70","")&IF(申込み!B33="混合90","MIX90","") | C6: =申込み!C34 -> 0 | D6: =申込み!C33 -> 0 | E6: =申込み!D34 -> 0 | H6: =B6 | I6: =申込み!C36 -> 0 | J6: =申込み!C35 -> 0 | K6: =申込み!D36 -> 0
A7: 6 | B7: =IF(申込み!H17="一般男","MD","")&IF(申込み!H17="一般女","WD","")&IF(申込み!H17="男子40","MD40","")&IF(申込み!H17="男子50","MD50","")&IF(申込み!H17="女子40","WD40","")&IF(申込み!H17="混合一般","MIX","")&IF(申込み!H17="混合70","MIX70","")&IF(申込み!H17="混合90","MIX90","") | C7: =申込み!I18 -> 0 | D7: =申込み!I17 -> 0 | E7: =申込み!J18 -> 0 | H7: =B7 | I7: =申込み!I20 -> 0 | J7: =申込み!I19 -> 0 | K7: =申込み!J20 -> 0
A8: 7 | B8: =IF(申込み!H21="一般男","MD","")&IF(申込み!H21="一般女","WD","")&IF(申込み!H21="混合一般","MIX","")&IF(申込み!H21="男子40","MD40","")&IF(申込み!H21="男子50","MD50","")&IF(申込み!H21="女子40","WD40","")&IF(申込み!H21="混合一般","MIX","")&IF(申込み!H21="混合70","MIX70","")&IF(申込み!H21="混合90","MIX90","") | C8: =申込み!I22 -> 0 | D8: =申込み!I21 -> 0 | E8: =申込み!J22 -> 0 | H8: =B8 | I8: =申込み!I24 -> 0 | J8: =申込み!I23 -> 0 | K8: =申込み!J24 -> 0
A9: 8 | B9: =IF(申込み!H25="一般男","MD","")&IF(申込み!H25="一般女","WD","")&IF(申込み!H25="男子40","MD40","")&IF(申込み!H25="男子50","MD50","")&IF(申込み!H25="女子40","WD40","")&IF(申込み!H25="混合一般","MIX","")&IF(申込み!H25="混合70","MIX70","")&IF(申込み!H25="混合90","MIX90","") | C9: =申込み!I26 -> 0 | D9: =申込み!I25 -> 0 | E9: =申込み!J26 -> 0 | H9: =B9 | I9: =申込み!I28 -> 0 | J9: =申込み!I27 -> 0 | K9: =申込み!J28 -> 0
A10: 1 | B10: =IF(申込み!H29="一般男","MD","")&IF(申込み!H29="一般女","WD","")&IF(申込み!H29="男子40","MD40","")&IF(申込み!H29="男子50","MD50","")&IF(申込み!H29="女子40","WD40","")&IF(申込み!H29="混合一般","MIX","")&IF(申込み!H29="混合70","MIX70","")&IF(申込み!H29="混合90","MIX90","") | C10: =申込み!I32 -> 0 | D10: =申込み!I31 -> 0 | E10: =申込み!J32 -> 0 | H10: =B10
A11: 2 | B11: =IF(申込み!H33="一般男","MD","")&IF(申込み!H33="一般女","WD","")&IF(申込み!H33="男子40","MD40","")&IF(申込み!H33="男子50","MD50","")&IF(申込み!H33="女子40","WD40","")&IF(申込み!H33="混合一般","MIX","")&IF(申込み!H33="混合70","MIX70","")&IF(申込み!H33="混合90","MIX90","") | C11: =申込み!I34 -> 0 | D11: =申込み!I33 -> 0 | E11: =申込み!J34 -> 0 | H11: =B11
A12: 3 | C12: =申込み!I36 -> 0 | D12: =申込み!I35 -> 0 | E12: =申込み!J36 -> 0
A13: 4 | C13: =申込み!I38 -> 0 | D13: =申込み!I37 -> 0 | E13: =申込み!J38 -> 0
A14: 5 | C14: =申込み!I40 -> 0 | D14: =申込み!I39 -> 0 | E14: =申込み!J40 -> 0
A15: 6 | C15: =申込み!I42 -> 0 | D15: =申込み!I41 -> 0 | E15: =申込み!J42 -> 0
A16: 7 | C16: =申込み!I44 -> 0 | D16: =申込み!I43 -> 0 | E16: =申込み!J44 -> 0
A17: 8 | C17: =申込み!I46 -> 0 | D17: =申込み!I45 -> 0 | E17: =申込み!J46 -> 0
A18: 9 | C18: =申込み!I48 -> 0 | D18: =申込み!I47 -> 0 | E18: =申込み!J48 -> 0
A19: 10 | C19: =申込み!I50 -> 0 | D19: =申込み!I49 -> 0 | E19: =申込み!J50 -> 0
B20: 一般男
B21: 一般女
B22: 男子40
B23: 男子50
B24: 女子40
B25: 混合一般
B26: 混合70
B27: 混合90
