Workbook

Sheet 申込書
A1: 第27回新潟県中学生バドミントン選手権大会（個人戦）申込書
A2: 色つきセルに入力願います。
A3: チーム名 | Q3: 男子／女子
A4: 申し込み 責任者 | F4: 氏名 | R4: プログラムの送信や大会事務局からの連絡は、申し込み書を送信したアドレスに送ります。ご注意ください。
F5: 緊急 連絡先
A6: 監督 | F6: 氏名 | Q6: 令和８年 | U6: 月 | W6: 日 | X6: 申し込みます。
A7: 推薦選手枠用 | Q7: ※必ず１部へのエントリーとなります。
A8: 今年度のJOC県予選会でベスト１６以上の選手 今年度の全日中県選手選考会でベスト８以上の選手
A9: ※ランキング順に記入してください。
A10: シングルス | B10: ランキング | F10: 氏 名 | K10: 学年 | M10: ふりがな | R10: 協会登録番号
B11: 1
B12: 2
B13: 3
B14: 4
A15: ダブルス | B15: ランキング | F15: 氏 名 | K15: 学年 | M15: ふりがな | R15: 協会登録番号 | W15: 他チームの選手と組む場合、 その選手の所属チーム名
B16: 1
B18: 2
B20: 3
B22: 4
A24: チーム枠 １部 | G24: ※ランキング順に記入してください。
A25: １部 シングルス | D25: ランキング | F25: 氏 名 | K25: 学年 | M25: ふりがな | R25: 協会登録番号
D26: 1
D27: 2
A28: １部 ダブルス | D28: ランキング | F28: 氏 名 | K28: 学年 | M28: ふりがな | R28: 協会登録番号 | W28: 他チームの選手と組む場合、 その選手の所属チーム名
D29: 1
A31: チーム枠 ２部 | G31: ※ランキング順に記入してください。
A32: ２部シングルス | D32: ランキング | F32: 氏 名 | K32: 学年 | M32: ふりがな | R32: 協会登録番号
D33: 1
D34: 2
D35: 3
D36: 4
D37: 5
D38: 6
A39: ２部ダブルス | D39: ランキング | F39: 氏 名 | K39: 学年 | M39: ふりがな | R39: 協会登録番号 | W39: 他チームの選手と組む場合、 その選手の所属チーム名
D40: 1
D42: 2
D44: 3
D46: 4
D48: 5
D50: 6
A52: コーチ氏名 | F52: 枠が足りない場合、一枠に二人記入してください。
A53: 上限は エントリー数
A55: 競技役員 | E55: ３エントリー以上のチームは必ず競技役員を１名出してください。
A56: 12月５日（土） | E56: 競技役員氏名

Sheet 事務局使用
A1: プログラム | D1: 推薦選手・チーム枠１部 | L1: プログラム | O1: チーム枠２部
A3: チーム名 | B3: 監督・コーチ | D3: シングルス選手名 | F3: ダブルス選手名 | L3: チーム名 | M3: 監督・コーチ | O3: シングルス選手名 | Q3: ダブルス選手名
A4: =申込書!F3 -> 0 | B4: 監督 | C4: =申込書!H6 -> 0 | D4: =申込書!F11 -> 0 | E4: =申込書!K11 -> 0 | F4: =申込書!F16 -> 0 | G4: =申込書!K16 -> 0 | H4: =申込書!F17 -> 0 | I4: =申込書!K17 -> 0 | J4: 推薦・１部 | L4: =A4 -> 0 | M4: 監督 | N4: =C4 -> 0 | O4: =申込書!F33 -> 0 | P4: =申込書!K33 -> 0 | Q4: =申込書!F40 -> 0 | R4: =申込書!K40 -> 0 | S4: =申込書!F41 -> 0 | T4: =申込書!K41 -> 0 | U4: ２部
B5: コーチ | C5: =CONCATENATE(申込書!C53,申込書!H53,申込書!M53,申込書!R53,申込書!W53,申込書!C54,申込書!H54,申込書!M54,申込書!R54,申込書!W54) | D5: =申込書!F12 -> 0 | E5: =申込書!K12 -> 0 | F5: =申込書!F18 -> 0 | G5: =申込書!K18 -> 0 | H5: =申込書!F19 -> 0 | I5: =申込書!K19 -> 0 | M5: コーチ | N5: =C5 | O5: =申込書!F34 -> 0 | P5: =申込書!K34 -> 0 | Q5: =申込書!F42 -> 0 | R5: =申込書!K42 -> 0 | S5: =申込書!F43 -> 0 | T5: =申込書!K43 -> 0
D6: =申込書!F13 -> 0 | E6: =申込書!K13 -> 0 | F6: =申込書!F20 -> 0 | G6: =申込書!K20 -> 0 | H6: =申込書!F21 -> 0 | I6: =申込書!K21 -> 0 | O6: =申込書!F35 -> 0 | P6: =申込書!K35 -> 0 | Q6: =申込書!F44 -> 0 | R6: =申込書!K44 -> 0 | S6: =申込書!F45 -> 0 | T6: =申込書!K45 -> 0
D7: =申込書!F14 -> 0 | E7: =申込書!K14 -> 0 | F7: =申込書!F22 -> 0 | G7: =申込書!K22 -> 0 | H7: =申込書!F23 -> 0 | I7: =申込書!K23 -> 0 | O7: =申込書!F36 -> 0 | P7: =申込書!K36 -> 0 | Q7: =申込書!F46 -> 0 | R7: =申込書!K46 -> 0 | S7: =申込書!F47 -> 0 | T7: =申込書!K47 -> 0
D8: =申込書!F26 -> 0 | E8: =申込書!K26 -> 0 | O8: =申込書!F37 -> 0 | P8: =申込書!K37 -> 0 | Q8: =申込書!F48 -> 0 | R8: =申込書!K48 -> 0 | S8: =申込書!F49 -> 0 | T8: =申込書!K49 -> 0
D9: =申込書!F27 -> 0 | E9: =申込書!K27 -> 0 | O9: =申込書!F38 -> 0 | P9: =申込書!K38 -> 0 | Q9: =申込書!F50 -> 0 | R9: =申込書!K50 -> 0 | S9: =申込書!F51 -> 0 | T9: =申込書!K51 -> 0
G12: 推薦 | I12: チーム
A13: エントリー確認 | B13: 種目 | C13: チーム名 | D13: 申し込み責任者 | E13: 緊急連絡先 | F13: 監督 | G13: S | H13: D | I13: 1部S | J13: 1部D | K13: 2部S | L13: 2部D | M13: 競技役員
B14: =申込書!V3 -> 0 | C14: =申込書!F3 -> 0 | D14: =申込書!H4 -> 0 | E14: =申込書!H5 -> 0 | F14: =申込書!H6 -> 0 | G14: =COUNTA(申込書!F11:J14) -> 0 | H14: =H15/2 -> 0 | I14: =COUNTA(申込書!F26:J27) -> 0 | J14: =J15/2 -> 0 | K14: =COUNTA(申込書!F33:J38) -> 0 | L14: =L15/2 -> 0 | M14: =申込書!I56 -> 0
H15: =COUNTA(申込書!F16:J23) -> 0 | J15: =COUNTA(申込書!F29:J30) -> 0 | L15: =COUNTA(申込書!F40:J51) -> 0
A18: アサミ | B18: 推薦選手・チーム枠１部 | H18: チーム枠２部
B20: 種目 | C20: 名前 | D20: ふりがな | E20: 所属 | F20: グループ | G20: 付加情報 | I20: 種目 | J20: 名前 | K20: ふりがな | L20: 所属 | M20: グループ | O20: 付加情報
A21: 1 | B21: S | C21: =申込書!F11 -> 0 | D21: =申込書!M11 -> 0 | E21: =$A$4 -> 0 | G21: =申込書!K11 -> 0 | H21: 1 | I21: S | J21: =申込書!F33 -> 0 | K21: =申込書!M33 -> 0 | L21: =$A$4 -> 0 | O21: =申込書!K33 -> 0
A22: 2 | B22: S | C22: =申込書!F12 -> 0 | D22: =申込書!M12 -> 0 | E22: =$A$4 -> 0 | G22: =申込書!K12 -> 0 | H22: 2 | I22: S | J22: =申込書!F34 -> 0 | K22: =申込書!M34 -> 0 | L22: =$A$4 -> 0 | O22: =申込書!K34 -> 0
A23: 3 | B23: S | C23: =申込書!F13 -> 0 | D23: =申込書!M13 -> 0 | E23: =$A$4 -> 0 | G23: =申込書!K13 -> 0 | H23: 3 | I23: S | J23: =申込書!F35 -> 0 | K23: =申込書!M35 -> 0 | L23: =$A$4 -> 0 | O23: =申込書!K35 -> 0
A24: 4 | B24: S | C24: =申込書!F14 -> 0 | D24: =申込書!M14 -> 0 | E24: =$A$4 -> 0 | G24: =申込書!K14 -> 0 | H24: 4 | I24: S | J24: =申込書!F36 -> 0 | K24: =申込書!M36 -> 0 | L24: =$A$4 -> 0 | O24: =申込書!K36 -> 0
A25: 1 | B25: S | C25: =申込書!F26 -> 0 | D25: =申込書!M26 -> 0 | E25: =$A$4 -> 0 | G25: =申込書!K26 -> 0 | H25: 5 | I25: S | J25: =申込書!F37 -> 0 | K25: =申込書!M37 -> 0 | L25: =$A$4 -> 0 | O25: =申込書!K37 -> 0
A26: 2 | B26: S | C26: =申込書!F27 -> 0 | D26: =申込書!M27 -> 0 | E26: =$A$4 -> 0 | G26: =申込書!K27 -> 0 | H26: 6 | I26: S | J26: =申込書!F38 -> 0 | K26: =申込書!M38 -> 0 | L26: =$A$4 -> 0 | O26: =申込書!K38 -> 0
A29: 1 | B29: D | C29: =申込書!F16 -> 0 | D29: =申込書!M16 -> 0 | E29: =$A$4 -> 0 | G29: =申込書!K16 -> 0 | H29: 1 | I29: D | J29: =申込書!F40 -> 0 | K29: =申込書!M40 -> 0 | L29: =$A$4 -> 0 | O29: =申込書!K40 -> 0
C30: =申込書!F17 -> 0 | D30: =申込書!M17 -> 0 | E30: =$A$4 -> 0 | G30: =申込書!K17 -> 0 | I30: D | J30: =申込書!F41 -> 0 | K30: =申込書!M41 -> 0 | L30: =$A$4 -> 0 | O30: =申込書!K41 -> 0
A31: 2 | B31: D | C31: =申込書!F18 -> 0 | D31: =申込書!M18 -> 0 | E31: =$A$4 -> 0 | G31: =申込書!K18 -> 0 | H31: 2 | I31: D | J31: =申込書!F42 -> 0 | K31: =申込書!M42 -> 0 | L31: =$A$4 -> 0 | O31: =申込書!K42 -> 0
C32: =申込書!F19 -> 0 | D32: =申込書!M19 -> 0 | E32: =$A$4 -> 0 | G32: =申込書!K19 -> 0 | I32: D | J32: =申込書!F43 -> 0 | K32: =申込書!M43 -> 0 | L32: =$A$4 -> 0 | O32: =申込書!K43 -> 0
A33: 3 | B33: D | C33: =申込書!F20 -> 0 | D33: =申込書!M20 -> 0 | E33: =$A$4 -> 0 | G33: =申込書!K20 -> 0 | H33: 3 | I33: D | J33: =申込書!F44 -> 0 | K33: =申込書!M44 -> 0 | L33: =$A$4 -> 0 | O33: =申込書!K44 -> 0
C34: =申込書!F21 -> 0 | D34: =申込書!M21 -> 0 | E34: =$A$4 -> 0 | G34: =申込書!K21 -> 0 | I34: D | J34: =申込書!F45 -> 0 | K34: =申込書!M45 -> 0 | L34: =$A$4 -> 0 | O34: =申込書!K45 -> 0
A35: 4 | B35: D | C35: =申込書!F22 -> 0 | D35: =申込書!M22 -> 0 | E35: =$A$4 -> 0 | G35: =申込書!K22 -> 0 | H35: 4 | I35: D | J35: =申込書!F46 -> 0 | K35: =申込書!M46 -> 0 | L35: =$A$4 -> 0 | O35: =申込書!K46 -> 0
C36: =申込書!F23 -> 0 | D36: =申込書!M23 -> 0 | E36: =$A$4 -> 0 | G36: =申込書!K23 -> 0 | I36: D | J36: =申込書!F47 -> 0 | K36: =申込書!M47 -> 0 | L36: =$A$4 -> 0 | O36: =申込書!K47 -> 0
A37: 1 | B37: D | C37: =申込書!F29 -> 0 | D37: =申込書!M29 -> 0 | E37: =$A$4 -> 0 | G37: =申込書!K29 -> 0 | H37: 5 | I37: D | J37: =申込書!F48 -> 0 | K37: =申込書!M48 -> 0 | L37: =$A$4 -> 0 | O37: =申込書!K48 -> 0
C38: =申込書!F30 -> 0 | D38: =申込書!M30 -> 0 | E38: =$A$4 -> 0 | G38: =申込書!K30 -> 0 | I38: D | J38: =申込書!F49 -> 0 | K38: =申込書!M49 -> 0 | L38: =$A$4 -> 0 | O38: =申込書!K49 -> 0
H39: 6 | I39: D | J39: =申込書!F50 -> 0 | K39: =申込書!M50 -> 0 | L39: =$A$4 -> 0 | O39: =申込書!K50 -> 0
I40: D | J40: =申込書!F51 -> 0 | K40: =申込書!M51 -> 0 | L40: =$A$4 -> 0 | O40: =申込書!K51 -> 0
